BEGIN:VCALENDAR
PRODID:-//ActOn//iCal4j 1.1//EN
VERSION:2.0
CALSCALE:GREGORIAN
BEGIN:VEVENT
DTSTAMP:20260425T222555Z
DTSTART:20120508T170000Z
DTEND:20120508T180000Z
SUMMARY:Simplify Your Security with Application Control
DESCRIPTION:Simplify Your Security with Application Control\n\n
UID:AO_EVENT_2636_0002__1334861667756
END:VEVENT
END:VCALENDAR
